BEGIN:VCALENDAR
VERSION:2.0
PRODID:-//Giracci - ECPv6.0.9//NONSGML v1.0//EN
CALSCALE:GREGORIAN
METHOD:PUBLISH
X-ORIGINAL-URL:https://www.giracci.com
X-WR-CALDESC:Events for Giracci
REFRESH-INTERVAL;VALUE=DURATION:PT1H
X-Robots-Tag:noindex
X-PUBLISHED-TTL:PT1H
BEGIN:VTIMEZONE
TZID:UTC
BEGIN:STANDARD
TZOFFSETFROM:+0000
TZOFFSETTO:+0000
TZNAME:UTC
DTSTART:20240101T000000
END:STANDARD
END:VTIMEZONE
BEGIN:VEVENT
DTSTART;TZID=UTC:20240119T180000
DTEND;TZID=UTC:20240119T210000
DTSTAMP:20260420T120912
CREATED:20231222T015147Z
LAST-MODIFIED:20231222T015248Z
UID:1933-1705687200-1705698000@www.giracci.com
SUMMARY:Wine Down In The New Year! Live Music\, Wine & Dinner
DESCRIPTION:Join us for Wine Down Friday January 19th from 6pm-9pm. Enjoy live rock band\, Hunting Waldo and wine! Two drink minimum per person. Drinks sold separately. Dinner tickets are not required but will sell out at the door! No outside food or beverage permitted.Giracci Vineyards & Farms Wine Club Members and Cowboy Canyon Wine Club Members recieve 15-20% off! For questions contact wineclub@giracci.com.
URL:https://www.giracci.com/event/wine-down-in-the-new-year/
LOCATION:Giracci Vineyards & Farms\, 16162 Jackson Ranch Road\, Silverado\, CA\, 92676\, United States
ATTACH;FMTTYPE=image/jpeg:https://www.giracci.com/wp-content/uploads/2023/12/WDF_flyer-scaled.jpg
END:VEVENT
END:VCALENDAR