BEGIN:VCALENDAR
VERSION:2.0
PRODID:-//Giracci - ECPv6.0.9//NONSGML v1.0//EN
CALSCALE:GREGORIAN
METHOD:PUBLISH
X-WR-CALNAME:Giracci
X-ORIGINAL-URL:https://www.giracci.com
X-WR-CALDESC:Events for Giracci
REFRESH-INTERVAL;VALUE=DURATION:PT1H
X-Robots-Tag:noindex
X-PUBLISHED-TTL:PT1H
BEGIN:VTIMEZONE
TZID:UTC
BEGIN:STANDARD
TZOFFSETFROM:+0000
TZOFFSETTO:+0000
TZNAME:UTC
DTSTART:20250101T000000
END:STANDARD
END:VTIMEZONE
BEGIN:VEVENT
DTSTART;TZID=UTC:20250606T180000
DTEND;TZID=UTC:20250606T210000
DTSTAMP:20260420T064749
CREATED:20250522T195538Z
LAST-MODIFIED:20250522T201808Z
UID:2152-1749232800-1749243600@www.giracci.com
SUMMARY:Fandango Friday Dinner Ticket - June 6th\, 2025
DESCRIPTION:Fandango Friday \nJune 6th\, 2025 6pm-9pm \n$39.99 – BBQ Dinner Ticket \nJoin us for Fandango Friday\, June 6th from 6pm-9pm. Enjoy live country music and wine! Two drink minimum per person. Drinks sold separately. Dinner tickets are not required but will sell out at the door! No outside food or beverage permitted. Giracci Vineyards & Farms Wine Club Members and Cowboy Canyon Wine Club Members receive 15-20% off! For questions contact wineclub@giracci.com.
URL:https://www.giracci.com/event/fandango-friday-dinner-ticket-june-6th-2025/
LOCATION:Giracci Vineyards & Farms\, 16162 Jackson Ranch Road\, Silverado\, CA\, 92676\, United States
ATTACH;FMTTYPE=image/jpeg:https://www.giracci.com/wp-content/uploads/2024/04/61BbPVu0P4L._AC_UF10001000_QL80_.jpg
END:VEVENT
END:VCALENDAR